BEGIN:VCALENDAR
VERSION:2.0
PRODID:-//ChamberMaster//Event Calendar 2.0//EN
METHOD:PUBLISH
X-PUBLISHED-TTL:P3D
REFRESH-INTERVAL:P3D
CALSCALE:GREGORIAN
BEGIN:VEVENT
DTSTART:20201210T230000Z
DTEND:20201211T010000Z
X-MICROSOFT-CDO-ALLDAYEVENT:FALSE
SUMMARY:December Business After Hours at Downtown Jeaux Coffee Café
DESCRIPTION:Chamber Members and their employees are invited to join us at the December Business After Hours! Come celebrate the holidays with food\, drinks\, live music\, and giveaways all while networking! This Business After Hours is one of the most popular ones!\n\n\n\nCome out to Downtown Jeaux's located at 300 Church Street Downtown Houma from 5-7 PM! Live music by Mary Beth and Frank Ball! There will be Wine\, Beer\, Bloody Mary's\, delicious finger foods\, gumbeaux\, and even Santa Claus will be there!
X-ALT-DESC;FMTTYPE=text/html:Chamber Members and their employees are invited to join us at the December Business After Hours! Come celebrate the holidays with food\, drinks\, live music\, and giveaways all while networking! This Business After Hours is one of the most popular ones!<br />\n<br />\nCome out to Downtown Jeaux&#39\;s located at 300 Church Street Downtown Houma from 5-7 PM! Live music by Mary Beth and Frank Ball! There will be Wine\, Beer\, Bloody Mary&#39\;s\, delicious finger foods\, gumbeaux\, and even Santa Claus will be there!
LOCATION:Downtown Jeaux Coffee Caf 300 Church Street\, Downtown Houma
UID:e.400.4593
SEQUENCE:3
DTSTAMP:20260421T011115Z
URL:http://members.houmachamber.com/events/details/december-business-after-hours-at-downtown-jeaux-coffee-caf&#233;-4593
END:VEVENT

END:VCALENDAR
