BEGIN:VCALENDAR
VERSION:2.0
PRODID:-//ChamberMaster//Event Calendar 2.0//EN
METHOD:PUBLISH
X-PUBLISHED-TTL:P3D
REFRESH-INTERVAL:P3D
CALSCALE:GREGORIAN
BEGIN:VEVENT
DTSTART:20201023T200000Z
DTEND:20201023T230000Z
X-MICROSOFT-CDO-ALLDAYEVENT:FALSE
SUMMARY:The Zen Den Health & Wellness Ribbon Cutting Ceremony
DESCRIPTION:Come celebrate The Zen Den with a ribbon cutting ceremony meet & greet event! Meet the staff and get to know everything they have to offer. They'll also have doorbuster sales!
X-ALT-DESC;FMTTYPE=text/html:Come celebrate The Zen Den with a ribbon cutting ceremony meet &amp\; greet event! Meet the staff and get to know everything they have to offer. They&#39\;ll also have doorbuster sales!
LOCATION:The Zen Den Health & Wellness 410 Corporate Dr.
UID:e.400.4582
SEQUENCE:3
DTSTAMP:20260421T080953Z
URL:https://members.houmachamber.com/events/details/the-zen-den-health-wellness-ribbon-cutting-ceremony-4582
END:VEVENT

END:VCALENDAR
